BEGIN:VCALENDAR
VERSION:2.0
PRODID:-//Об&#039;єднання Українців Ізміра - ECPv6.15.20//NONSGML v1.0//EN
CALSCALE:GREGORIAN
METHOD:PUBLISH
X-WR-CALNAME:Об&#039;єднання Українців Ізміра
X-ORIGINAL-URL:http://izmirukraynalilar.com
X-WR-CALDESC:Події за Об&#039;єднання Українців Ізміра
REFRESH-INTERVAL;VALUE=DURATION:PT1H
X-Robots-Tag:noindex
X-PUBLISHED-TTL:PT1H
BEGIN:VTIMEZONE
TZID:UTC
BEGIN:STANDARD
TZOFFSETFROM:+0000
TZOFFSETTO:+0000
TZNAME:UTC
DTSTART:20200101T000000
END:STANDARD
END:VTIMEZONE
BEGIN:VEVENT
DTSTART;TZID=UTC:20211028T120000
DTEND;TZID=UTC:20211028T140000
DTSTAMP:20260420T042228
CREATED:20211026T191450Z
LAST-MODIFIED:20211026T191450Z
UID:94-1635422400-1635429600@izmirukraynalilar.com
SUMMARY:Украïнський книжковий клуб
DESCRIPTION:Шановні учасники Українського книжкового клубу!\nНагадуємо\, що 28 жовтня 2021 р.\, в останній четвер цього місяця\, о 12.00 в офісі Об’єднання українців Ізміра на Алсанджаці відбудеться чергова зустріч нашого книжкового клубу. Відкритим голосуванням було обрано більшістю голосів книжку «Повія» Панаса Мирного. Книжки\, які набрали меншу кількість голосів приймуть участь у наступному голосуванні. Твір-переможець можна знайти за прикріпленим посиланням.\nУмови участі в книжковому клубі дуже прості:\n заздалегідь прочитати анонсовану книжку українською мовою \n дискусія проводитиметься українською мовою й триватиме приблизно дві години \nучасть безкоштовна \nреєстрацiя не потрiбна \nатмосфера неофіційна \nбесiда з чаюванням (чай/кава є \, смаколики приносимо з собою й пригощаймося)
URL:http://izmirukraynalilar.com/event/ukrainskyy-knyzhkovyy-klub/
LOCATION:Офіс Об’єднання Українців Ізміра\, Maltepe\, Mithatpaşa Cd. No:189\, 35310 Güzelbahçe/İzmir\, Ізмір\, Turkey
END:VEVENT
END:VCALENDAR